BEGIN:VCALENDAR
VERSION:2.0
PRODID:-//eventon.com NONSGML v1.0//EN
CALSCALE:GREGORIAN
METHOD:PUBLISH
BEGIN:VEVENT
UID:69ea3bb5f3da3
DTSTAMP:20260423T153309Z
DTSTART:20250917
DTEND:20250918
LOCATION:Centro de Convenciones Buenos Aires
SUMMARY:Congreso Argentino e Internacional de Oncología Clínica
DESCRIPTION:\nhttps://sad.org.ar/events/congreso-argentino-e-internacional-
 de-oncologia-clinica/
URL:https://sad.org.ar/events/congreso-argentino-e-internacional-de-oncologia-clinica/
END:VEVENT
END:VCALENDAR