BEGIN:VCALENDAR
VERSION:2.0
PRODID:-//eventon.com NONSGML v1.0//EN
CALSCALE:GREGORIAN
METHOD:PUBLISH
BEGIN:VEVENT
UID:69eb3fc1ab8a7
DTSTAMP:20260424T100241Z
DTSTART:20250408
DTEND:20250409
LOCATION:Centro de Convenciones Buenos Aires
SUMMARY:15ᵗʰ World Congress of Pediatric Dermatology
DESCRIPTION:\nhttps://sad.org.ar/events/15%e1%b5%97%ca%b0-world-congress-of
 -pediatric-dermatology/
URL:https://sad.org.ar/events/15%e1%b5%97%ca%b0-world-congress-of-pediatric-dermatology/
END:VEVENT
END:VCALENDAR