BEGIN:VCALENDAR
VERSION:2.0
PRODID:-//eventon.com NONSGML v1.0//EN
CALSCALE:GREGORIAN
METHOD:PUBLISH
BEGIN:VEVENT
UID:69e50f497f1ba
DTSTAMP:20260419T172217Z
DTSTART:20241001
DTEND:20241002
LOCATION:Colegio de Médicos 9 de Julio 154\,  Santiago del Estero
SUMMARY:Actividad cultural
DESCRIPTION:1º de octubre de 2024 &#8211; Sección Santiago del Estero\nht
 tps://sad.org.ar/events/actividad-cultural/
URL:https://sad.org.ar/events/actividad-cultural/
END:VEVENT
END:VCALENDAR