BEGIN:VCALENDAR
VERSION:2.0
PRODID:-//eventon.com NONSGML v1.0//EN
CALSCALE:GREGORIAN
METHOD:PUBLISH
BEGIN:VEVENT
UID:69e59e70a5b06
DTSTAMP:20260420T033304Z
DTSTART:20230509T233000Z
DTEND:20230510T003000Z
LOCATION:https://campussad.org.ar/course/view.php?id=115
SUMMARY:Ateneo Virtual de Dermatología Quirúrgica
DESCRIPTION:Martes 9 de mayo de 2023 QUIERO RESERVAR MI LUGAR\nhttps://sad.
 org.ar/events/ateneo-virtual-de-dermatologia-quirurgica-copy/var/event_acce
 ss
URL:https://sad.org.ar/events/ateneo-virtual-de-dermatologia-quirurgica-copy/var/event_access
END:VEVENT
END:VCALENDAR