BEGIN:VCALENDAR
VERSION:2.0
PRODID:-//eventon.com NONSGML v1.0//EN
CALSCALE:GREGORIAN
METHOD:PUBLISH
BEGIN:VEVENT
UID:69e50bd3a1fb1
DTSTAMP:20260419T170731Z
DTSTART:20220613
DTEND:20220614
LOCATION:
SUMMARY:Llamado a Concurso "Biología Molecular en Medicina"
DESCRIPTION:\nhttps://sad.org.ar/events/llamado-a-concurso-biologia-molecul
 ar-en-medicina/
URL:https://sad.org.ar/events/llamado-a-concurso-biologia-molecular-en-medicina/
END:VEVENT
END:VCALENDAR